BEGIN:VCALENDAR
PRODID:Solar Promotion GmbH
CALSCALE:GREGORIAN
BEGIN:VEVENT
DTSTAMP:20260421T095952Z
DTSTART:20260624T093000
DTEND:20260624T120000
SUMMARY:Driving the Global Energy Transition - International Business Brunch
TZID:Europe/Berlin
LAST-MODIFIED:20260417T071659Z
DESCRIPTION:Join us for an exclusive Networking Business Brunch hosted by the team behind The smarter E and the Intersolar international events. This event offers a unique opportunity to connect with leading experts and decision-makers from the global renewable energy industry\, exchange ideas\, and gain valuable insights into the trends shaping the transformation of energy markets. Under the motto 'Accelerating Integrated Energy Solutions'\, the brunch provides an engaging platform for international participants to network\, share perspectives\, and explore current developments across the clean energy landscape. The International Business Brunch creates space for informal conversation\, professional exchange\, and cross regional dialogue on topics such as integrated energy systems\, solar and storage developments\, and emerging market opportunities. Participation A visitor ticket is sufficient Separate registration is required (free of charge) Register here
SEQUENCE:1776765592
URL:https://www.thesmartere.de/exhibition-program/driving-the-global-energy-transition-international-business-brunch
LOCATION:The smarter E Europe Exhibition Program\, Messe München ICM Bistro (ground floor)
UID:f936336f-ea32-45b8-90cc-84a97f16390f
END:VEVENT
END:VCALENDAR
