BEGIN:VCALENDAR
PRODID:Solar Promotion GmbH
CALSCALE:GREGORIAN
BEGIN:VEVENT
DTSTAMP:20260425T154359Z
DTSTART:20260624T093000
DTEND:20260624T180000
SUMMARY:Plug-in Solar Conference
TZID:Europe/Berlin
LAST-MODIFIED:20260424T090400Z
DESCRIPTION:For further information and registration\, please follow the link here.
SEQUENCE:1777131839
URL:https://www.thesmartere.de/conference-program/plug-in-solar-conference
LOCATION:The smarter E Europe Conference Program\, ICM München Room 11
UID:15b4f7dd-df04-4ebb-984e-00e411e97d05
END:VEVENT
END:VCALENDAR
