BEGIN:VCALENDAR
PRODID:Solar Promotion GmbH
CALSCALE:GREGORIAN
BEGIN:VEVENT
DTSTAMP:20260421T125524Z
DTSTART:20260624T103000
DTEND:20260624T113000
SUMMARY:AgNeS\, MiSpeL\, NEST & co. - Was die neuen Regulierungen mit sich bringen? Im Gespräch mit BNetzA-Vizepräsidentin Barbie Haller
TZID:Europe/Berlin
LAST-MODIFIED:20260421T102013Z
DESCRIPTION:Mit neuen Regulierungsinstrumenten wie AgNeS\, MiSpeL und NEST will die Bundesnetzagentur (BNetzA) den Netzbetrieb effizienter machen und die Integration erneuerbarer Energien beschleunigen. Doch was bedeuten diese Reformen konkret für Marktakteure? Was kommt wann auf uns zu? In einer exklusiven Interview-Session spricht Nadine Bethge (Bundesverband Neue Energiewirtschaft e.V.) mit der BNetzA-Vizepräsidentin\, Barbie Kornelia Haller\, über Ziele\, Erwartungen und offene Fragen der aktuellen Regulierung. Welche Spielräume entstehen für Innovation und Flexibilität? Und welche Weichen werden für ein zunehmend digitales und dynamisches Energiesystem gestellt?
SEQUENCE:1776776124
URL:https://www.thesmartere.de/messeprogramm/agnes-mispel-nest-co-was-die-neuen-regulierungen-mit-sich-bringen-im-gesprch-mit-bnetza-vizeprsidentin-barbie-haller
LOCATION:The smarter E Europe Exhibition Program\, Messe München Halle C5\, Stand C5.550
UID:193cd23c-106b-4242-9829-5d0f61751416
END:VEVENT
END:VCALENDAR
