BEGIN:VCALENDAR
PRODID:Solar Promotion GmbH
CALSCALE:GREGORIAN
BEGIN:VEVENT
DTSTAMP:20260421T131646Z
DTSTART:20260624T150000
DTEND:20260624T160000
SUMMARY:Demand-Side Flexibility - Erfolgsbeispiele aus der Praxis
TZID:Europe/Berlin
LAST-MODIFIED:20260421T102018Z
DESCRIPTION:Demand-Side Flexibility (DFS) entwickelt sich rasant zu einer tragenden Säule eines widerstandsfähigen\, erneuerbaren Energiesystems - und steht im Mittelpunkt der Flexible Demand Management Industry (FDMI). Deren Unternehmen haben es sich zur Aufgabe gemacht\, flexible Lasten zu erschließen\, zu optimieren und ihren Marktwert sichtbar zu machen. In der Session werden konkrete Projekte und praxisnahe Fallstudien vorgestellt\, die zeigen\, wie nachfrageseitige Flexibilität bereits heute erfolgreich umgesetzt wird. Dazu gehört die Unterstützung von Verbrauchern und Unternehmen dabei\, ihren Strombedarf aktiv zu steuern\, beim Lastspitzenmanagement\, bei Ausgleichsleistungen und der Integration erneuerbarer Energien. Praktische Erfahrungen mit unterschiedlichen Technologien\, Märkten und regulatorischen Rahmenbedingungen zeigen\, wie die Zusammenarbeit von Technologieanbietern\, Marktakteuren und politischen Entscheidungsträgern den Ausbau von DSF vorantreiben kann. Die Beispiele machen außerdem deutlich\, welchen konkreten Nutzen Flexibilität für das Energiesystem\, für Unternehmen und für Verbraucher bringt. Die Session endet mit einer offenen Fragerunde\, in der die Teilnehmer eingeladen sind\, direkt mit den Referenten über die gewonnenen Erkenntnisse\, Herausforderungen und politischen Aufgaben für die zukünftige Entwicklung der Demand-Side Flexibilität zu diskutieren.
SEQUENCE:1776777406
URL:https://www.thesmartere.de/messeprogramm/demand-side-flexibility-erfolgsbeispiele-aus-der-praxis
LOCATION:The smarter E Europe Exhibition Program\, Messe München Halle C5\, Stand C5.550
UID:bea6bd98-36d0-4888-ab09-8a49b61836d9
END:VEVENT
END:VCALENDAR
