BEGIN:VCALENDAR
PRODID:Solar Promotion GmbH
CALSCALE:GREGORIAN
BEGIN:VEVENT
DTSTAMP:20260421T130837Z
DTSTART:20260624T120000
DTEND:20260624T130000
SUMMARY:From Small to Large - Microgrids as a Blueprint for the Connected Energy World (in German)
TZID:Europe/Berlin
LAST-MODIFIED:20260421T102425Z
DESCRIPTION:The energy transition is being discussed on the grand stage-but it is taking place on the ground\, in buildings\, in businesses\, and in neighborhoods. Microgrids demonstrate how renewable generation\, flexible demand\, electric mobility\, and digital grid infrastructure can work together intelligently. But how can local solutions be scaled up into models for cross-sector energy systems? What technologies are available to shape the interconnected energy world of tomorrow\, and what regulatory framework do we need to put them into practice? This panel will explore these questions from the perspectives of solution providers\, users\, and policymakers/regulators.
SEQUENCE:1776776917
URL:https://www.thesmartere.de/exhibition-program/from-small-to-large-microgrids-as-a-blueprint-for-the-connected-energy-world-in-german
LOCATION:The smarter E Europe Exhibition Program\, Messe München Hall C5\, Booth C5.550
UID:2115f46f-8f93-4108-be5a-83056eab0b04
END:VEVENT
END:VCALENDAR
