BEGIN:VCALENDAR
PRODID:Solar Promotion GmbH
CALSCALE:GREGORIAN
BEGIN:VEVENT
DTSTAMP:20260421T143605Z
DTSTART:20260623T163000
DTEND:20260623T173000
SUMMARY:EEG 2027: The Green Light for the new Flexibility Market!? (in German)
TZID:Europe/Berlin
LAST-MODIFIED:20260421T102402Z
DESCRIPTION:Under the EEG 2027\, 'other direct marketing' is expected to become the standard form of marketing for all installations under 25 kW. A key component of this will be the market integration of storage systems and charging points (MiSpeL). In particular\, storage systems and charging infrastructure are to be actively integrated into the market. The aim is to reward flexibility. Storage systems preferentially charge electricity during periods of low prices and feed it back into the grid during shortages. Charging points and consumers deliberately shift their demand to take advantage of solar peaks and mitigate periods of low wind and low sunlight. This makes the EEG 2027 a policy instrument for system stability\, rather than merely an expansion programme.
SEQUENCE:1776782165
URL:https://www.thesmartere.de/exhibition-program/eeg-2027-the-green-light-for-the-new-flexibility-market-in-german
LOCATION:The smarter E Europe Exhibition Program\, Messe München Hall C5\, Booth C5.550
UID:285c89b5-f4fd-4331-a82f-21977d0b6b27
END:VEVENT
END:VCALENDAR
