BEGIN:VCALENDAR
PRODID:Solar Promotion GmbH
CALSCALE:GREGORIAN
BEGIN:VEVENT
DTSTAMP:20260422T024205Z
DTSTART:20260421T110000
DTEND:20260421T120000
SUMMARY:Rethinking Energy Planning. Digital Twin Using the Example of Bollingstedt
TZID:Europe/Berlin
LAST-MODIFIED:20260415T065046Z
DESCRIPTION:Webinar on energy planning with digital twins\, using Bollingstedt as an example.
SEQUENCE:1776825725
URL:https://www.thesmartere.de/webinars/rethinking-energy-planning
LOCATION:EM-Power Europe\, 
UID:180bcc98-925b-481c-910c-d82f41985abc
END:VEVENT
END:VCALENDAR
