BEGIN:VCALENDAR
PRODID:Solar Promotion GmbH
CALSCALE:GREGORIAN
BEGIN:VEVENT
DTSTAMP:20260423T105336Z
DTSTART:20260421T110000
DTEND:20260421T120000
SUMMARY:Energieplanung neu gedacht: Digitaler Zwilling am Beispiel Bollingstedt
TZID:Europe/Berlin
LAST-MODIFIED:20260422T123852Z
DESCRIPTION:Webinar zur Energieplanung mit Digitalem Zwilling am Beispiel Bollingstedt.
SEQUENCE:1776941616
URL:https://www.thesmartere.de/webinare/energieplanung-neu-gedacht
LOCATION:EM-Power Europe\, 
UID:243ae80a-f959-4d11-9ec8-133cd1f994b0
END:VEVENT
END:VCALENDAR
