BEGIN:VCALENDAR
PRODID:Solar Promotion GmbH
CALSCALE:GREGORIAN
BEGIN:VEVENT
DTSTAMP:20260419T202401Z
DTSTART:20260505T110000
DTEND:20260505T120000
SUMMARY:Nachfrageseitige Flexibilität in der Praxis: Reale Erfolgsstrategien für energieintensive Branchen
TZID:Europe/Berlin
LAST-MODIFIED:20260414T105518Z
DESCRIPTION:Webinar\, das zeigt\, wie Flexibilität Energiekosten sparen kann und den Wettbewerb stärken kann.
SEQUENCE:1776630241
URL:https://www.thesmartere.de/webinare/nachfrageseitige-flexibilitaet-in-der-praxis
LOCATION:EM-Power Europe\, 
UID:3a70a721-3bd5-4652-89ce-41954b3981c7
END:VEVENT
END:VCALENDAR
