BEGIN:VCALENDAR
PRODID:Solar Promotion GmbH
CALSCALE:GREGORIAN
BEGIN:VEVENT
DTSTAMP:20260422T125543Z
DTSTART:20260624T130000
DTEND:20260624T143000
SUMMARY:Systemdienliche Elektrolyse - vom Netzengpass zur Speicherlösung
TZID:Europe/Berlin
LAST-MODIFIED:20260421T102737Z
DESCRIPTION:Bitte beachten Sie\, dass diese Session auf Deutsch stattfindet. Deutschland steht an einem Wendepunkt der Energiewende: Während Süddeutschland mit überschüssiger Solarenergie kämpft\, fehlen effiziente Speicherlösungen für die systemdienliche Elektrolyse. Der erste Konferenztag beleuchtet\, wie Wasserstoff als Energiespeicher die verstopften Stromnetze entlasten kann und gleichzeitig resiliente Infrastrukturen schafft. Von der lokalen PV-Überschussnutzung bis zur industriellen Dekarbonisierung in den Leitmärkten Chemie\, Zement und Stahl - Baden-Württemberg und Bayern werden zu Testlaboren für Deutschlands Wasserstoffzukunft. Dabei stellt sich die zentrale Frage: Brauchen wir mehr Elektrolyseure im Süden oder eine intelligentere Vernetzung? Die Diskussion zeigt Wege auf\, wie die Region ihre Vorreiterrolle bei gleichzeitiger Wettbewerbsfähigkeit gegenüber anderen Märkten behaupten kann. Die Kernfragen\, die im Panel diskutiert werden\, lauten unter anderem: Wie sieht die resiliente Energieinfrastruktur in Deutschland aus? Wie können wir unsere technologische Vorreiterrolle behaupten und dabei gleichzeitig wettbewerbsfähig bleiben? Welche Rolle kann eine systemdienliche Elektrolyse dabei spielen? Wird dies helfen\, die Stromnetze in Süddeutschland zu entlasten? Und wie erreichen wir ein optimales Zusammenspiel von Elektronen und Molekülen?
SEQUENCE:1776862543
URL:https://www.thesmartere.de/konferenzprogramm/systemdienliche-elektrolyse-vom-netzengpass-zur-speicherlsung
LOCATION:ees Europe Conference Program\, ICM München Raum 14 B
UID:289c0afb-fbd1-40bf-abe5-ed6b0df1fd09
END:VEVENT
END:VCALENDAR
