BEGIN:VCALENDAR
PRODID:Solar Promotion GmbH
CALSCALE:GREGORIAN
BEGIN:VEVENT
DTSTAMP:20260422T125613Z
DTSTART:20260624T150000
DTEND:20260624T163000
SUMMARY:Leitmärkte Chemie\, Zement & Stahl - Dekarbonisierung als Wettbewerbsfaktor
TZID:Europe/Berlin
LAST-MODIFIED:20260421T102734Z
DESCRIPTION:Bitte beachten Sie\, dass diese Session auf Deutsch stattfindet. Die energieintensiven Industrien stehen vor der Herausforderung\, grüne Energie zu wettbewerbsfähigen Preisen zu beschaffen. In dieser Session wird die Rolle von Wasserstoff versus CO2-Abscheidung (CCU/CCS) als Dekarbonisierungspfade diskutiert und beleuchtet\, wie die Leitmärkte Chemie\, Zement und Stahl den Hochlauf der Wasserstoffwirtschaft vorantreiben können.
SEQUENCE:1776862573
URL:https://www.thesmartere.de/konferenzprogramm/leitmrkte-chemie-zement-stahl-dekarbonisierung-als-wettbewerbsfaktor
LOCATION:ees Europe Conference Program\, ICM München Raum 14 B
UID:dd5bb7ff-34f6-4b3d-b472-318453bc5ab3
END:VEVENT
END:VCALENDAR
