BEGIN:VCALENDAR
PRODID:Solar Promotion GmbH
CALSCALE:GREGORIAN
BEGIN:VEVENT
DTSTAMP:20260422T125630Z
DTSTART:20260625T120000
DTEND:20260625T133000
SUMMARY:EU-Elektrolyse im internationalen Wettbewerb - ist H2 local die Antwort auf H2 global?
TZID:Europe/Berlin
LAST-MODIFIED:20260421T102730Z
DESCRIPTION:Bitte beachten Sie\, dass diese Session in englischer Sprache abgehalten wird. Europäische Elektrolyseur-Hersteller agieren in einem internationalen Wettbewerbsumfeld\, das unter anderem durch unterschiedliche industriepolitische Rahmenbedingungen geprägt ist. Die Session diskutiert Strategien zur Stärkung der europäischen Wettbewerbsfähigkeit und Technologiesouveränität\, ordnet die mögliche Rolle handelspolitischer Instrumente ein und beleuchtet das Spannungsfeld zwischen internationaler Technologiekooperation und wachsendem Wettbewerbsdruck. Zudem wird beleuchtet\, ob ein ergänzendes "Made in Europe'-Programm ein geeigneter Ansatz im Umgang mit internationalen Marktveränderungen sein könnte.
SEQUENCE:1776862590
URL:https://www.thesmartere.de/konferenzprogramm/eu-elektrolyse-im-internationalen-wettbewerb-ist-h2-local-die-antwort-auf-h2-global
LOCATION:ees Europe Conference Program\, ICM München Raum 14 B
UID:9f3ba665-7f97-4481-b81d-d03117443487
END:VEVENT
END:VCALENDAR
