BEGIN:VCALENDAR
PRODID:Solar Promotion GmbH
CALSCALE:GREGORIAN
BEGIN:VEVENT
DTSTAMP:20260422T024001Z
DTSTART:20260625T120000
DTEND:20260625T133000
SUMMARY:EU Electrolysis in International Competition - Is H2 Local the Answer to H2 Global?
TZID:Europe/Berlin
LAST-MODIFIED:20260421T103027Z
DESCRIPTION:Please note that this session will be conducted in English. European electrolyzer manufacturers operate in an international competitive environment shaped\, among other factors\, by differing industrial policy frameworks. This session discusses strategies to strengthen European competitiveness and technological sovereignty\, situates the potential role of trade policy instruments\, and examines the tension between international technology cooperation and increasing competitive pressure. It also explores whether a complementary 'Made in Europe' program could be a suitable approach to addressing changes in global markets.
SEQUENCE:1776825601
URL:https://www.thesmartere.de/conference-program/eu-electrolysis-in-international-competition-is-h2-local-the-answer-to-h2-global
LOCATION:ees Europe Conference Program\, ICM München Room 14 B
UID:17d62b72-4fce-48bc-8c5e-74df44788c46
END:VEVENT
END:VCALENDAR
