BEGIN:VCALENDAR
PRODID:Solar Promotion GmbH
CALSCALE:GREGORIAN
BEGIN:VEVENT
DTSTAMP:20260422T024504Z
DTSTART:20260622T130000
DTEND:20260622T140000
SUMMARY:Scaling EV Flexibility: Technical Progress\, Economic Potential\, Enabling Policy
TZID:Europe/Berlin
LAST-MODIFIED:20260421T103012Z
DESCRIPTION:The accelerating deployment of electric vehicles (EVs) and renewable energy is creating new challenges for grid stability. Smart and bidirectional charging can help balance the system while offering value to EV owners. The International Energy Agency will outline the benefits\, global progress and remaining barriers to vehicle to grid (V2G) technology deployment\, followed by insights from the German National Centre for Charging Infrastructure on regulatory developments. A panel of industry experts will then discuss business models\, pilot results\, technology advances and the role of interoperability in scaling EV flexibility solutions.
SEQUENCE:1776825904
URL:https://www.thesmartere.de/conference-program/scaling-ev-flexibility-technical-progress-economic-potential-enabling-policy
LOCATION:Power2Drive Europe Conference Program\, ICM München Room 5
UID:8a08a73d-61df-457f-85f0-01e79878fabf
END:VEVENT
END:VCALENDAR
