BEGIN:VCALENDAR
PRODID:Solar Promotion GmbH
CALSCALE:GREGORIAN
BEGIN:VEVENT
DTSTAMP:20260422T023841Z
DTSTART:20260623T093000
DTEND:20260623T110000
SUMMARY:Can We Trust AI to Run the Grid? From Data Infrastructure to Operational Intelligence
TZID:Europe/Berlin
LAST-MODIFIED:20260421T102926Z
DESCRIPTION:Grid operators are no longer asking whether AI belongs in control rooms\, but when they will be able to rely on it. AI tools for forecasting imbalances\, detecting congestion\, supporting dispatch decisions as well as enabling digital twins and edge intelligence are advancing rapidly. At the same time\, European frameworks are evolving to support data-driven grid operation. But trust is not built on model accuracy alone - it requires real-world deployment\, transparent validation and clear human oversight. During this 90-minute session\, speakers will share concrete results from deployed systems. Find out where AI-assisted operation has delivered measurable improvements\, what data infrastructure is genuinely needed and what regulatory conditions can help a tool move from the pilot phase to one that becomes part of daily operations.
SEQUENCE:1776825521
URL:https://www.thesmartere.de/conference-program/can-we-trust-ai-to-run-the-grid-from-data-infrastructure-to-operational-intelligence
LOCATION:EM-Power Europe Conference Program\, ICM München Room 4
UID:6c4e0143-f76c-47d0-a2dc-37839a97dd5e
END:VEVENT
END:VCALENDAR
