BEGIN:VCALENDAR
PRODID:Solar Promotion GmbH
CALSCALE:GREGORIAN
BEGIN:VEVENT
DTSTAMP:20260422T023013Z
DTSTART:20260622T154500
DTEND:20260622T164500
SUMMARY:Ready for Electrification: Preparing the Power Grid for EVs
TZID:Europe/Berlin
LAST-MODIFIED:20260421T102917Z
DESCRIPTION:This session focuses on the key factors in accelerating the integration of electric vehicles (EVs) into the power grid with the most benefits for consumers\, grids and the environment. We will look at key elements of EV market integration\, e.g. smart/bidirectional charging\, policies to reduce current grid bottlenecks and necessary legislative reform across Europe.
SEQUENCE:1776825013
URL:https://www.thesmartere.de/conference-program/ready-for-electrification-preparing-the-power-grid-for-evs
LOCATION:Power2Drive Europe Conference Program\, ICM München Room 5
UID:70cf7b74-66eb-4c56-926a-c92688e69e1f
END:VEVENT
END:VCALENDAR
