BEGIN:VCALENDAR
PRODID:Solar Promotion GmbH
CALSCALE:GREGORIAN
BEGIN:VEVENT
DTSTAMP:20260422T024309Z
DTSTART:20260622T154500
DTEND:20260622T164500
SUMMARY:Battery Storage Technology: What Next?
TZID:Europe/Berlin
LAST-MODIFIED:20260421T102848Z
DESCRIPTION:The rapid expansion of utility-scale and commercial battery storage is pushing technological innovation beyond today's conventional lithium-ion solutions. New cell designs and new battery chemistries\, such as sodium-ion\, are entering the market while system designs are evolving with innovative power electronics\, system architectures and control strategies. Together\, these innovations help reduce cost\, boost energy density and efficiency\, and improve ROI across the globe through optimized operations and increased life spans. This session will present cutting-edge developments and discuss which technologies are most likely to shape the next generation of battery energy storage.
SEQUENCE:1776825789
URL:https://www.thesmartere.de/conference-program/battery-storage-technology-what-next
LOCATION:ees Europe Conference Program\, ICM München Room 13 B
UID:4c6b9774-e482-4a7b-8065-5f71b59f5daf
END:VEVENT
END:VCALENDAR
