BEGIN:VCALENDAR
PRODID:Solar Promotion GmbH
CALSCALE:GREGORIAN
BEGIN:VEVENT
DTSTAMP:20260422T125949Z
DTSTART:20260622T141500
DTEND:20260622T151500
SUMMARY:C&I Storage Boom or Hype: Setting Expectations Right
TZID:Europe/Berlin
LAST-MODIFIED:20260421T102528Z
DESCRIPTION:Bitte beachten Sie\, dass alle Konferenzsessions in englischer Sprache abgehalten werden. Commercial and industrial (C&I) storage is among the fastest-growing markets in Europe in terms of annual year-on-year growth\, yet in absolute installed capacity\, it remains five times smaller than the residential segment. Still\, it is attracting strong attention: utility-scale developers and residential providers are now targeting C&I as their next growth area. EV players are also entering the space by adding storage to charging infrastructure and exploring second-life battery applications. This session explores whether future growth will create space for all players\, the main business cases and technological solutions C&I developers are betting on\, and the key markets most likely to shape the future of this segment.
SEQUENCE:1776862789
URL:https://www.thesmartere.de/konferenzprogramm/ci-storage-boom-or-hype-setting-expectations-right
LOCATION:ees Europe Conference Program\, ICM München Raum 13 A
UID:53b1c661-2cab-4e3b-ba97-9e25cd5e6fb3
END:VEVENT
END:VCALENDAR
