BEGIN:VCALENDAR
PRODID:Solar Promotion GmbH
CALSCALE:GREGORIAN
BEGIN:VEVENT
DTSTAMP:20260422T023008Z
DTSTART:20260623T143000
DTEND:20260623T160000
SUMMARY:Off-Grid: PV-Based Hydrogen Microgrid Projects Around the World
TZID:Europe/Berlin
LAST-MODIFIED:20260421T102824Z
DESCRIPTION:Discover how green hydrogen and fuel cell technologies are transforming decentralized energy systems worldwide. This session will be presenting hands-on experience from pioneering projects in Thailand\, Ghana\, Namibia and South Africa. Find out how solar-powered hydrogen microgrids can replace diesel generators\, strengthen energy resilience and enable short- to long-term storage\, while supporting environmental and climate goals. Project partners including German SMEs and research institutes\, share insights on lessons learned\, local benefits and the replication potential of these systems. Selected projects were implemented with the support from the Export Initiative Environmental Protection. Off-Grid: Technology\, innovation and application (e.g. productive use\, business models\, agricultural-PV\, water-energy-food )
SEQUENCE:1776825008
URL:https://www.thesmartere.de/conference-program/off-grid-pv-based-hydrogen-microgrid-projects-around-the-world
LOCATION:Intersolar Europe Conference Program\, ICM München Room 14 C
UID:38577783-3281-4aac-b5d3-82ea0562f6f6
END:VEVENT
END:VCALENDAR
