BEGIN:VCALENDAR
PRODID:Solar Promotion GmbH
CALSCALE:GREGORIAN
BEGIN:VEVENT
DTSTAMP:20260422T023013Z
DTSTART:20260623T093000
DTEND:20260623T110000
SUMMARY:Off-Grid: Market Outlook and Lessons Learned
TZID:Europe/Berlin
LAST-MODIFIED:20260421T102820Z
DESCRIPTION:This session provides an overview of current market trends and forecasts in the off-grid sector. Industry experts will be sharing key insights from recent projects\, highlighting successes\, challenges and lessons learned from real-world implementation. The discussion will offer practical takeaways for stakeholders looking to better understand market dynamics and develop resilient\, scalable off-grid energy solutions.
SEQUENCE:1776825013
URL:https://www.thesmartere.de/conference-program/off-grid-market-outlook-and-lessons-learned
LOCATION:Intersolar Europe Conference Program\, ICM München Room 14 C
UID:4c160060-2542-4258-b40d-d5acb8ec5138
END:VEVENT
END:VCALENDAR
