BEGIN:VCALENDAR
PRODID:Solar Promotion GmbH
CALSCALE:GREGORIAN
BEGIN:VEVENT
DTSTAMP:20260422T164818Z
DTSTART:20250623T090000
DTEND:20260623T180000
SUMMARY:Off-Grid at The smarter E Europe
TZID:Europe/Berlin
LAST-MODIFIED:20260225T130744Z
DESCRIPTION:What does it take to secure affordable\, clean energy and water for rural people in low-and medium income countries. The dedicated sessions on off-grid at Intersolar Europe Conference showed you..
SEQUENCE:1776876498
URL:https://www.thesmartere.de/accompanying-program/off-grid
LOCATION:Intersolar Europe\, 
UID:3faa42c2-d4d8-4ef9-9c8e-ac59f91ceec1
END:VEVENT
END:VCALENDAR
