BEGIN:VCALENDAR
PRODID:Solar Promotion GmbH
CALSCALE:GREGORIAN
BEGIN:VEVENT
DTSTAMP:20260421T125057Z
DTSTART:20250508T140000
DTEND:20250508T154500
SUMMARY:Energy Transition Award Ceremony
TZID:Europe/Berlin
LAST-MODIFIED:20250821T122721Z
DESCRIPTION:The Energy Transisiton Award honors energy suppliers for their commitment to the energy transition. Get to know best practice examples at the award ceremony.
SEQUENCE:1776775857
URL:https://www.thesmartere.de/accompanying-program/energy-transition-award-alt
LOCATION:The smarter E Europe\, 
UID:00b8ba2b-163b-4b6c-bbe7-23b8a075e497
END:VEVENT
END:VCALENDAR
